{
 "currentVersion": 11.2,
 "serviceDescription": "Imagery/IRW2001_03_Nearmap_Imagery",
 "name": "Imagery/IRW2001_03_Nearmap_Imagery",
 "description": "",
 "extent": {
  "xmin": 6119522.7304235,
  "ymin": 2177660.9154925,
  "xmax": 6122917.5272925,
  "ymax": 2179944.3584305,
  "spatialReference": {
   "wkid": 102646,
   "latestWkid": 2230
  }
 },
 "initialExtent": {
  "xmin": 6119522.7304235,
  "ymin": 2177660.9154925,
  "xmax": 6122917.5272925,
  "ymax": 2179944.3584305,
  "spatialReference": {
   "wkid": 102646,
   "latestWkid": 2230
  }
 },
 "fullExtent": {
  "xmin": 6119522.7304235,
  "ymin": 2177660.9154925,
  "xmax": 6122917.5272925,
  "ymax": 2179944.3584305,
  "spatialReference": {
   "wkid": 102646,
   "latestWkid": 2230
  }
 },
 "sortableFields": "",
 "bandCount": 3,
 "pixelType": "U8",
 "minValues": [
  0,
  0,
  0
 ],
 "maxValues": [
  255,
  255,
  255
 ],
 "meanValues": [
  105.53867125367,
  104.36138077602,
  108.49296512951
 ],
 "stdvValues": [
  58.969024051217,
  53.741682831527,
  46.926132029149
 ],
 "hasMultidimensions": false,
 "pixelSizeX": 0.4897990000000606,
 "pixelSizeY": 0.4897989999999922,
 "meanPixelSize": 0.14929103378207564,
 "datasetFormat": "JFIF",
 "uncompressedSize": 96936966,
 "blockWidth": 6931,
 "blockHeight": 1,
 "compressionType": "JPEG",
 "bandNames": [
  "Band_1",
  "Band_2",
  "Band_3"
 ],
 "allowCopy": true,
 "allowAnalysis": true,
 "itemAccess": false,
 "inspectionCapabilities": "",
 "minPixelSize": 0,
 "maxPixelSize": 0,
 "copyrightText": "",
 "serviceDataType": "esriImageServiceDataTypeRGB",
 "serviceSourceType": "esriImageServiceSourceTypeDataset",
 "objectIdField": "",
 "fields": [],
 "capabilities": "Image,Metadata,Mensuration",
 "defaultMosaicMethod": "Center",
 "allowedMosaicMethods": "",
 "sortField": "",
 "sortValue": null,
 "sortAscending": true,
 "mosaicOperator": "First",
 "defaultCompressionQuality": 75,
 "defaultResamplingMethod": "Bilinear",
 "maxImageHeight": 4100,
 "maxImageWidth": 15000,
 "allowRasterFunction": true,
 "rasterFunctionInfos": [
  {
   "name": "None",
   "description": "",
   "help": ""
  }
 ],
 "rasterTypeInfos": [
  {
   "name": "Raster Dataset",
   "description": "Supports all ArcGIS Raster Datasets",
   "help": ""
  }
 ],
 "mensurationCapabilities": "Basic",
 "hasHistograms": true,
 "hasColormap": false,
 "hasRasterAttributeTable": false,
 "minScale": 0,
 "maxScale": 0,
 "exportTilesAllowed": false,
 "supportsStatistics": false,
 "supportsAdvancedQueries": false,
 "editFieldsInfo": null,
 "ownershipBasedAccessControlForRasters": null,
 "allowComputeTiePoints": false,
 "useStandardizedQueries": true,
 "advancedQueryCapabilities": {
  "useStandardizedQueries": true,
  "supportsStatistics": false,
  "supportsOrderBy": false,
  "supportsDistinct": false,
  "supportsPagination": false
 },
 "spatialReference": {
  "wkid": 102646,
  "latestWkid": 2230
 }
}
