View In:
ArcGIS JavaScript
ArcGIS Online Map Viewer
ArcGIS Earth
Service Description: Imagery/IRW2001_03_Nearmap_Imagery
Name: Imagery/IRW2001_03_Nearmap_Imagery
Description:
Single Fused Map Cache: false
Extent:
XMin: 6119522.7304235
YMin: 2177660.9154925
XMax: 6122917.5272925
YMax: 2179944.3584305
Spatial Reference: 102646
(2230)
Initial Extent:
XMin: 6119522.7304235
YMin: 2177660.9154925
XMax: 6122917.5272925
YMax: 2179944.3584305
Spatial Reference: 102646
(2230)
Full Extent:
XMin: 6119522.7304235
YMin: 2177660.9154925
XMax: 6122917.5272925
YMax: 2179944.3584305
Spatial Reference: 102646
(2230)
Pixel Size X: 0.4897990000000606
Pixel Size Y: 0.4897989999999922
Band Count: 3
Pixel Type: U8
RasterFunction Infos: {"rasterFunctionInfos": [{
"name": "None",
"description": "",
"help": ""
}]}
Mensuration Capabilities: Basic
Inspection Capabilities:
Has Histograms: true
Has Colormap: false
Has Multi Dimensions : false
Rendering Rule:
Min Scale: 0
Max Scale: 0
Copyright Text:
Service Data Type: esriImageServiceDataTypeRGB
Min Values: 0, 0, 0
Max Values: 255, 255, 255
Mean Values: 105.53867125367, 104.36138077602, 108.49296512951
Standard Deviation Values: 58.969024051217, 53.741682831527, 46.926132029149
Object ID Field:
Fields:
None
Default Mosaic Method: Center
Allowed Mosaic Methods:
SortField:
SortValue: null
Mosaic Operator: First
Default Compression Quality: 75
Default Resampling Method: Bilinear
Max Record Count: null
Max Image Height: 4100
Max Image Width: 15000
Max Download Image Count: null
Max Mosaic Image Count: null
Allow Raster Function: true
Allow Copy: true
Allow Analysis: true
Allow Compute TiePoints: false
Supports Statistics: false
Supports Advanced Queries: false
Use StandardizedQueries: true
Raster Type Infos:
Name: Raster Dataset
Description: Supports all ArcGIS Raster Datasets
Help:
Has Raster Attribute Table: false
Edit Fields Info: null
Ownership Based AccessControl For Rasters: null
Child Resources:
Info
Histograms
Statistics
Key Properties
Legend
Raster Function Infos
Supported Operations:
Export Image
Identify
Measure
Compute Histograms
Compute Statistics Histograms
Get Samples
Compute Class Statistics
Query Boundary
Compute Pixel Location
Compute Angles
Validate
Project